Package: MBAmethyl Version: 1.43.0 Command: /Library/Frameworks/R.framework/Resources/bin/R CMD INSTALL MBAmethyl StartedAt: 2025-10-05 15:01:27 -0400 (Sun, 05 Oct 2025) EndedAt: 2025-10-05 15:01:28 -0400 (Sun, 05 Oct 2025) EllapsedTime: 1.6 seconds RetCode: 0 Status: OK