Package: MBASED Version: 1.43.0 Command: /Library/Frameworks/R.framework/Resources/bin/R CMD build --keep-empty-dirs --no-resave-data MBASED StartedAt: 2025-10-16 18:22:00 -0400 (Thu, 16 Oct 2025) EndedAt: 2025-10-16 18:24:38 -0400 (Thu, 16 Oct 2025) EllapsedTime: 158.2 seconds RetCode: 0 Status: OK PackageFile: MBASED_1.43.0.tar.gz PackageFileSize: 363.9 KiB