Package: MBASED Version: 1.43.0 Command: /Library/Frameworks/R.framework/Resources/bin/R CMD build --keep-empty-dirs --no-resave-data MBASED StartedAt: 2025-10-13 16:53:24 -0400 (Mon, 13 Oct 2025) EndedAt: 2025-10-13 16:54:11 -0400 (Mon, 13 Oct 2025) EllapsedTime: 47.5 seconds RetCode: 0 Status: OK PackageFile: MBASED_1.43.0.tar.gz PackageFileSize: 364.6 KiB