Package: MBASED Version: 1.43.0 Command: rm -rf MBASED.buildbin-libdir && mkdir MBASED.buildbin-libdir && /Users/biocbuild/BBS/utils/build-universal.sh MBASED_1.43.0.tar.gz /Library/Frameworks/R.framework/Resources/bin/R MBASED.buildbin-libdir StartedAt: 2025-10-13 22:47:54 -0400 (Mon, 13 Oct 2025) EndedAt: 2025-10-13 22:48:03 -0400 (Mon, 13 Oct 2025) EllapsedTime: 9.2 seconds RetCode: 0 Status: OK PackageFile: MBASED_1.43.0.tgz PackageFileSize: 498.5 KiB