Package: MBASED Version: 1.45.0 Maintainer: Oleg Mayba MaintainerEmail: mayba.oleg at gene.com git_url: https://git.bioconductor.org/packages/MBASED git_branch: devel git_last_commit: cd4e120 git_last_commit_date: 2025-10-29 10:21:07 -0400 (Wed, 29 Oct 2025)