Package: MAST Version: 1.35.2 Command: /home/biocbuild/bbs-3.22-bioc/R/bin/R CMD check --install=check:MAST.install-out.txt --library=/home/biocbuild/bbs-3.22-bioc/R/site-library --timings MAST_1.35.2.tar.gz StartedAt: 2025-10-29 00:59:08 -0400 (Wed, 29 Oct 2025) EndedAt: 2025-10-29 01:08:07 -0400 (Wed, 29 Oct 2025) EllapsedTime: 538.8 seconds RetCode: 0 Status: OK CheckDir: MAST.Rcheck Warnings: 0