Package: MAST Version: 1.37.0 Command: /home/biocbuild/bbs-3.23-bioc/R/bin/R CMD INSTALL MAST StartedAt: 2025-11-20 15:19:25 -0500 (Thu, 20 Nov 2025) EndedAt: 2025-11-20 15:20:04 -0500 (Thu, 20 Nov 2025) EllapsedTime: 39.8 seconds RetCode: 0 Status: OK