Package: MAST Version: 1.37.0 Command: /home/biocbuild/bbs-3.23-bioc/R/bin/R CMD build --keep-empty-dirs --no-resave-data MAST StartedAt: 2025-11-20 18:27:15 -0500 (Thu, 20 Nov 2025) EndedAt: 2025-11-20 18:31:39 -0500 (Thu, 20 Nov 2025) EllapsedTime: 264.3 seconds RetCode: 0 Status: OK PackageFile: MAST_1.37.0.tar.gz PackageFileSize: 7.25 MiB