Package: MAST Version: 1.35.2 Command: /Library/Frameworks/R.framework/Resources/bin/R CMD INSTALL MAST StartedAt: 2025-10-16 15:48:58 -0400 (Thu, 16 Oct 2025) EndedAt: 2025-10-16 15:49:54 -0400 (Thu, 16 Oct 2025) EllapsedTime: 55.8 seconds RetCode: 0 Status: OK