Package: MAST Version: 1.35.0 Command: /Library/Frameworks/R.framework/Resources/bin/R CMD build --keep-empty-dirs --no-resave-data MAST StartedAt: 2025-10-14 17:50:24 -0400 (Tue, 14 Oct 2025) EndedAt: 2025-10-14 17:56:59 -0400 (Tue, 14 Oct 2025) EllapsedTime: 394.5 seconds RetCode: 0 Status: OK PackageFile: MAST_1.35.0.tar.gz PackageFileSize: 7.182 MiB