Package: MAST Version: 1.35.0 Command: rm -rf MAST.buildbin-libdir && mkdir MAST.buildbin-libdir && /Users/biocbuild/BBS/utils/build-universal.sh MAST_1.35.0.tar.gz /Library/Frameworks/R.framework/Resources/bin/R MAST.buildbin-libdir StartedAt: 2025-10-15 02:52:16 -0400 (Wed, 15 Oct 2025) EndedAt: 2025-10-15 02:53:18 -0400 (Wed, 15 Oct 2025) EllapsedTime: 62.6 seconds RetCode: 0 Status: OK PackageFile: MAST_1.35.0.tgz PackageFileSize: 7.859 MiB