Package: MAST Version: 1.35.0 Command: /Library/Frameworks/R.framework/Resources/bin/R CMD INSTALL MAST StartedAt: 2025-10-03 15:12:43 -0400 (Fri, 03 Oct 2025) EndedAt: 2025-10-03 15:12:59 -0400 (Fri, 03 Oct 2025) EllapsedTime: 16.0 seconds RetCode: 0 Status: OK