Package: MAPFX Version: 1.7.0 Command: /home/biocbuild/bbs-3.23-bioc/R/bin/R CMD INSTALL MAPFX StartedAt: 2025-11-16 15:15:27 -0500 (Sun, 16 Nov 2025) EndedAt: 2025-11-16 15:15:50 -0500 (Sun, 16 Nov 2025) EllapsedTime: 22.9 seconds RetCode: 0 Status: OK