Package: MAPFX Version: 1.7.0 Command: /home/biocbuild/bbs-3.23-bioc/R/bin/R CMD build --keep-empty-dirs --no-resave-data MAPFX StartedAt: 2025-11-16 18:28:24 -0500 (Sun, 16 Nov 2025) EndedAt: 2025-11-16 18:35:49 -0500 (Sun, 16 Nov 2025) EllapsedTime: 445.5 seconds RetCode: 0 Status: OK PackageFile: MAPFX_1.7.0.tar.gz PackageFileSize: 3.543 MiB