Package: MANOR Version: 1.83.0 Command: /home/biocbuild/bbs-3.23-bioc/R/bin/R CMD build --keep-empty-dirs --no-resave-data MANOR StartedAt: 2025-11-20 18:25:09 -0500 (Thu, 20 Nov 2025) EndedAt: 2025-11-20 18:25:51 -0500 (Thu, 20 Nov 2025) EllapsedTime: 42.0 seconds RetCode: 0 Status: OK PackageFile: MANOR_1.83.0.tar.gz PackageFileSize: 1.475 MiB