Package: MANOR Version: 1.81.0 Command: /Library/Frameworks/R.framework/Resources/bin/R CMD INSTALL MANOR StartedAt: 2025-10-21 15:07:35 -0400 (Tue, 21 Oct 2025) EndedAt: 2025-10-21 15:08:15 -0400 (Tue, 21 Oct 2025) EllapsedTime: 40.5 seconds RetCode: 0 Status: OK