Package: MANOR Version: 1.81.0 Command: rm -rf MANOR.buildbin-libdir && mkdir MANOR.buildbin-libdir && /Users/biocbuild/BBS/utils/build-universal.sh MANOR_1.81.0.tar.gz /Library/Frameworks/R.framework/Resources/bin/R MANOR.buildbin-libdir StartedAt: 2025-10-21 03:19:35 -0400 (Tue, 21 Oct 2025) EndedAt: 2025-10-21 03:19:51 -0400 (Tue, 21 Oct 2025) EllapsedTime: 16.0 seconds RetCode: 0 Status: OK PackageFile: MANOR_1.81.0.tgz PackageFileSize: 1.787 MiB