Package: MANOR Version: 1.81.0 Command: /Library/Frameworks/R.framework/Resources/bin/R CMD INSTALL MANOR StartedAt: 2025-10-03 15:01:55 -0400 (Fri, 03 Oct 2025) EndedAt: 2025-10-03 15:01:58 -0400 (Fri, 03 Oct 2025) EllapsedTime: 3.5 seconds RetCode: 0 Status: OK