Package: MANOR Version: 1.81.0 Command: rm -rf MANOR.buildbin-libdir && mkdir MANOR.buildbin-libdir && /Users/biocbuild/BBS/utils/build-universal.sh MANOR_1.81.0.tar.gz /Library/Frameworks/R.framework/Resources/bin/R MANOR.buildbin-libdir StartedAt: 2025-10-02 23:09:01 -0400 (Thu, 02 Oct 2025) EndedAt: 2025-10-02 23:09:04 -0400 (Thu, 02 Oct 2025) EllapsedTime: 3.1 seconds RetCode: 0 Status: OK PackageFile: MANOR_1.81.0.tgz PackageFileSize: 1.784 MiB