Package: MAIT Version: 1.45.0 Command: /home/biocbuild/bbs-3.23-bioc/R/bin/R CMD INSTALL MAIT StartedAt: 2025-11-20 15:42:43 -0500 (Thu, 20 Nov 2025) EndedAt: 2025-11-20 15:43:35 -0500 (Thu, 20 Nov 2025) EllapsedTime: 52.1 seconds RetCode: 0 Status: OK