Package: MAIT Version: 1.43.0 Command: /Library/Frameworks/R.framework/Resources/bin/R CMD INSTALL MAIT StartedAt: 2025-10-24 15:53:13 -0400 (Fri, 24 Oct 2025) EndedAt: 2025-10-24 15:54:26 -0400 (Fri, 24 Oct 2025) EllapsedTime: 73.5 seconds RetCode: 0 Status: OK