Package: MAIT Version: 1.43.0 Command: /Library/Frameworks/R.framework/Resources/bin/R CMD INSTALL MAIT StartedAt: 2025-10-12 15:24:24 -0400 (Sun, 12 Oct 2025) EndedAt: 2025-10-12 15:24:45 -0400 (Sun, 12 Oct 2025) EllapsedTime: 21.4 seconds RetCode: 0 Status: OK