Package: MAI Version: 1.17.0 Command: /home/biocbuild/bbs-3.23-bioc/R/bin/R CMD build --keep-empty-dirs --no-resave-data MAI StartedAt: 2025-11-20 18:24:33 -0500 (Thu, 20 Nov 2025) EndedAt: 2025-11-20 18:29:00 -0500 (Thu, 20 Nov 2025) EllapsedTime: 267.2 seconds RetCode: 0 Status: OK PackageFile: MAI_1.17.0.tar.gz PackageFileSize: 452.3 KiB