Package: MAI Version: 1.17.0 Command: /Library/Frameworks/R.framework/Resources/bin/R CMD INSTALL MAI StartedAt: 2025-11-21 15:32:24 -0500 (Fri, 21 Nov 2025) EndedAt: 2025-11-21 15:33:01 -0500 (Fri, 21 Nov 2025) EllapsedTime: 37.3 seconds RetCode: 0 Status: OK