Package: MAI Version: 1.17.0 Command: /Library/Frameworks/R.framework/Resources/bin/R CMD build --keep-empty-dirs --no-resave-data MAI StartedAt: 2025-11-21 17:33:32 -0500 (Fri, 21 Nov 2025) EndedAt: 2025-11-21 17:38:32 -0500 (Fri, 21 Nov 2025) EllapsedTime: 299.4 seconds RetCode: 0 Status: OK PackageFile: MAI_1.17.0.tar.gz PackageFileSize: 452.2 KiB