Package: MAI Version: 1.17.0 Command: rm -rf MAI.buildbin-libdir && mkdir MAI.buildbin-libdir && /Users/biocbuild/BBS/utils/build-universal.sh MAI_1.17.0.tar.gz /Library/Frameworks/R.framework/Resources/bin/R MAI.buildbin-libdir StartedAt: 2025-11-22 01:41:35 -0500 (Sat, 22 Nov 2025) EndedAt: 2025-11-22 01:42:17 -0500 (Sat, 22 Nov 2025) EllapsedTime: 42.0 seconds RetCode: 0 Status: OK PackageFile: MAI_1.17.0.tgz PackageFileSize: 499 KiB