Package: MAI Version: 1.16.0 Command: /Library/Frameworks/R.framework/Resources/bin/R CMD INSTALL MAI StartedAt: 2025-10-29 21:38:05 -0400 (Wed, 29 Oct 2025) EndedAt: 2025-10-29 21:38:16 -0400 (Wed, 29 Oct 2025) EllapsedTime: 11.0 seconds RetCode: 0 Status: OK