Package: MAI Version: 1.16.0 Command: rm -rf MAI.buildbin-libdir && mkdir MAI.buildbin-libdir && /Users/biocbuild/BBS/utils/build-universal.sh MAI_1.16.0.tar.gz /Library/Frameworks/R.framework/Resources/bin/R MAI.buildbin-libdir StartedAt: 2025-10-30 05:29:51 -0400 (Thu, 30 Oct 2025) EndedAt: 2025-10-30 05:30:03 -0400 (Thu, 30 Oct 2025) EllapsedTime: 12.2 seconds RetCode: 0 Status: OK PackageFile: MAI_1.16.0.tgz PackageFileSize: 498.7 KiB