Package: MAGAR Version: 1.19.0 Command: /home/biocbuild/bbs-3.23-bioc/R/bin/R CMD INSTALL MAGAR StartedAt: 2025-11-19 16:05:04 -0500 (Wed, 19 Nov 2025) EndedAt: 2025-11-19 16:06:05 -0500 (Wed, 19 Nov 2025) EllapsedTime: 61.2 seconds RetCode: 0 Status: OK