Package: MAGAR Version: 1.19.0 Command: /home/biocbuild/bbs-3.23-bioc/R/bin/R CMD build --keep-empty-dirs --no-resave-data MAGAR StartedAt: 2025-11-19 18:27:07 -0500 (Wed, 19 Nov 2025) EndedAt: 2025-11-19 18:29:09 -0500 (Wed, 19 Nov 2025) EllapsedTime: 121.1 seconds RetCode: 0 Status: OK PackageFile: MAGAR_1.19.0.tar.gz PackageFileSize: 1.004 MiB