Package: MAGAR Version: 1.17.0 Command: /Library/Frameworks/R.framework/Resources/bin/R CMD build --keep-empty-dirs --no-resave-data MAGAR StartedAt: 2025-10-23 16:54:11 -0400 (Thu, 23 Oct 2025) EndedAt: 2025-10-23 16:55:05 -0400 (Thu, 23 Oct 2025) EllapsedTime: 53.6 seconds RetCode: 0 Status: OK PackageFile: MAGAR_1.17.0.tar.gz PackageFileSize: 1021 KiB