Package: MADSEQ Version: 1.35.1 Command: /home/biocbuild/bbs-3.23-bioc/R/bin/R CMD INSTALL MADSEQ StartedAt: 2025-10-22 21:56:43 -0000 (Wed, 22 Oct 2025) EndedAt: 2025-10-22 21:56:44 -0000 (Wed, 22 Oct 2025) EllapsedTime: 0.9 seconds RetCode: 1 Status: ERROR