############################################################################## ############################################################################## ### ### Running command: ### ### /home/biocbuild/bbs-3.23-bioc/R/bin/R CMD INSTALL MADSEQ ### ############################################################################## ############################################################################## * installing to library ‘/home/biocbuild/bbs-3.23-bioc/R/site-library’ ERROR: dependencies ‘BSgenome.Hsapiens.UCSC.hg19’, ‘zlibbioc’ are not available for package ‘MADSEQ’ Perhaps try a variation of: install.packages(c('BSgenome.Hsapiens.UCSC.hg19', 'zlibbioc')) * removing ‘/home/biocbuild/bbs-3.23-bioc/R/site-library/MADSEQ’