Package: MADSEQ Version: 1.35.1 Command: /Library/Frameworks/R.framework/Resources/bin/R CMD build --keep-empty-dirs --no-resave-data MADSEQ StartedAt: 2025-10-24 17:38:21 -0400 (Fri, 24 Oct 2025) EndedAt: 2025-10-24 17:38:24 -0400 (Fri, 24 Oct 2025) EllapsedTime: 2.3 seconds RetCode: 1 Status: ERROR PackageFile: None PackageFileSize: NA