Package: MADSEQ Version: 1.35.1 Command: /Library/Frameworks/R.framework/Resources/bin/R CMD INSTALL MADSEQ StartedAt: 2025-09-29 15:34:50 -0400 (Mon, 29 Sep 2025) EndedAt: 2025-09-29 15:34:50 -0400 (Mon, 29 Sep 2025) EllapsedTime: 0.1 seconds RetCode: 1 Status: ERROR