Package: MADSEQ Version: 1.35.1 Command: /Library/Frameworks/R.framework/Resources/bin/R CMD build --keep-empty-dirs --no-resave-data MADSEQ StartedAt: 2025-09-30 16:52:22 -0400 (Tue, 30 Sep 2025) EndedAt: 2025-09-30 16:52:23 -0400 (Tue, 30 Sep 2025) EllapsedTime: 1.0 seconds RetCode: 1 Status: ERROR PackageFile: None PackageFileSize: NA