Package: MACSr Version: 1.19.0 Command: /home/biocbuild/bbs-3.23-bioc/R/bin/R CMD INSTALL MACSr StartedAt: 2025-11-20 15:25:47 -0500 (Thu, 20 Nov 2025) EndedAt: 2025-11-20 15:26:03 -0500 (Thu, 20 Nov 2025) EllapsedTime: 16.0 seconds RetCode: 0 Status: OK