Package: MACSr Version: 1.19.0 Command: /home/biocbuild/bbs-3.23-bioc/R/bin/R CMD build --keep-empty-dirs --no-resave-data MACSr StartedAt: 2025-11-20 18:23:47 -0500 (Thu, 20 Nov 2025) EndedAt: 2025-11-20 18:24:22 -0500 (Thu, 20 Nov 2025) EllapsedTime: 35.0 seconds RetCode: 0 Status: OK PackageFile: MACSr_1.19.0.tar.gz PackageFileSize: 5.112 MiB