Package: MACSQuantifyR Version: 1.23.0 Command: /Library/Frameworks/R.framework/Resources/bin/R CMD check --install=check:MACSQuantifyR.install-out.txt --library=/Library/Frameworks/R.framework/Resources/library --no-vignettes --timings MACSQuantifyR_1.23.0.tar.gz StartedAt: 2025-10-24 20:29:13 -0400 (Fri, 24 Oct 2025) EndedAt: 2025-10-24 20:29:35 -0400 (Fri, 24 Oct 2025) EllapsedTime: 22.3 seconds RetCode: 0 Status: OK CheckDir: MACSQuantifyR.Rcheck Warnings: 0