Package: M3Drop Version: 1.35.0 Command: /home/biocbuild/bbs-3.22-bioc/R/bin/R CMD check --install=check:M3Drop.install-out.txt --library=/home/biocbuild/bbs-3.22-bioc/R/site-library --timings M3Drop_1.35.0.tar.gz StartedAt: 2025-10-29 00:54:40 -0400 (Wed, 29 Oct 2025) EndedAt: 2025-10-29 01:01:48 -0400 (Wed, 29 Oct 2025) EllapsedTime: 427.9 seconds RetCode: 0 Status: OK CheckDir: M3Drop.Rcheck Warnings: 0