Package: M3Drop Version: 1.37.0 Command: /home/biocbuild/bbs-3.23-bioc/R/bin/R CMD INSTALL M3Drop StartedAt: 2025-11-02 16:01:46 -0500 (Sun, 02 Nov 2025) EndedAt: 2025-11-02 16:02:03 -0500 (Sun, 02 Nov 2025) EllapsedTime: 17.2 seconds RetCode: 0 Status: OK