Package: M3Drop Version: 1.37.0 Command: /home/biocbuild/bbs-3.23-bioc/R/bin/R CMD build --keep-empty-dirs --no-resave-data M3Drop StartedAt: 2025-11-03 18:16:19 -0500 (Mon, 03 Nov 2025) EndedAt: 2025-11-03 18:18:05 -0500 (Mon, 03 Nov 2025) EllapsedTime: 105.1 seconds RetCode: 0 Status: OK PackageFile: M3Drop_1.37.0.tar.gz PackageFileSize: 12.25 MiB