Package: M3Drop Version: 1.35.0 Command: /Library/Frameworks/R.framework/Resources/bin/R CMD INSTALL M3Drop StartedAt: 2025-10-03 15:48:08 -0400 (Fri, 03 Oct 2025) EndedAt: 2025-10-03 15:48:31 -0400 (Fri, 03 Oct 2025) EllapsedTime: 23.3 seconds RetCode: 0 Status: OK