Package: M3Drop Version: 1.35.0 Command: /Library/Frameworks/R.framework/Resources/bin/R CMD build --keep-empty-dirs --no-resave-data M3Drop StartedAt: 2025-10-03 17:38:04 -0400 (Fri, 03 Oct 2025) EndedAt: 2025-10-03 17:41:07 -0400 (Fri, 03 Oct 2025) EllapsedTime: 182.6 seconds RetCode: 0 Status: OK PackageFile: M3Drop_1.35.0.tar.gz PackageFileSize: 12.25 MiB