Package: M3Drop Version: 1.35.0 Maintainer: Tallulah Andrews MaintainerEmail: tallulandrews at gmail.com git_url: https://git.bioconductor.org/packages/M3Drop git_branch: devel git_last_commit: 66aa05f git_last_commit_date: 2025-04-15 11:06:38 -0400 (Tue, 15 Apr 2025)