Package: M3C Version: 1.31.0 Command: /home/biocbuild/R/R/bin/R CMD INSTALL M3C StartedAt: 2025-10-06 20:21:58 -0000 (Mon, 06 Oct 2025) EndedAt: 2025-10-06 20:22:32 -0000 (Mon, 06 Oct 2025) EllapsedTime: 34.0 seconds RetCode: 0 Status: OK