Package: M3C Version: 1.33.0 Command: /home/biocbuild/bbs-3.23-bioc/R/bin/R CMD INSTALL M3C StartedAt: 2025-11-20 15:10:39 -0500 (Thu, 20 Nov 2025) EndedAt: 2025-11-20 15:10:49 -0500 (Thu, 20 Nov 2025) EllapsedTime: 9.8 seconds RetCode: 0 Status: OK