Package: M3C Version: 1.33.0 Command: /home/biocbuild/bbs-3.23-bioc/R/bin/R CMD check --install=check:M3C.install-out.txt --library=/home/biocbuild/bbs-3.23-bioc/R/site-library --timings M3C_1.33.0.tar.gz StartedAt: 2025-11-22 00:57:11 -0500 (Sat, 22 Nov 2025) EndedAt: 2025-11-22 00:59:08 -0500 (Sat, 22 Nov 2025) EllapsedTime: 117.3 seconds RetCode: 0 Status: OK CheckDir: M3C.Rcheck Warnings: 0