Package: M3C Version: 1.33.0 Command: /home/biocbuild/bbs-3.23-bioc/R/bin/R CMD build --keep-empty-dirs --no-resave-data M3C StartedAt: 2025-11-20 18:22:50 -0500 (Thu, 20 Nov 2025) EndedAt: 2025-11-20 18:23:39 -0500 (Thu, 20 Nov 2025) EllapsedTime: 49.1 seconds RetCode: 0 Status: OK PackageFile: M3C_1.33.0.tar.gz PackageFileSize: 590.3 KiB