Package: LymphoSeq Version: 1.39.0 Command: /home/biocbuild/bbs-3.23-bioc/R/bin/R CMD INSTALL LymphoSeq StartedAt: 2025-11-05 15:43:23 -0500 (Wed, 05 Nov 2025) EndedAt: 2025-11-05 15:43:41 -0500 (Wed, 05 Nov 2025) EllapsedTime: 18.2 seconds RetCode: 0 Status: OK